BEGIN:VCALENDAR
VERSION:2.0
PRODID:-//St Andrew&#039;s Anglican Church - ECPv4.8.1//NONSGML v1.0//EN
CALSCALE:GREGORIAN
METHOD:PUBLISH
X-WR-CALNAME:St Andrew&#039;s Anglican Church
X-ORIGINAL-URL:http://www.st-andrews.org.au
X-WR-CALDESC:Events for St Andrew&#039;s Anglican Church
BEGIN:VEVENT
DTSTART;TZID=UTC:20190303T070000
DTEND;TZID=UTC:20190303T080000
DTSTAMP:20190301T134140
CREATED:20190215T010150Z
LAST-MODIFIED:20190301T131337Z
UID:7892-1551596400-1551600000@www.st-andrews.org.au
SUMMARY:7am Sunday Service\, 1662 Communion. First Sunday of every month
DESCRIPTION:
URL:http://www.st-andrews.org.au/event/7am-sunday-service-1662-communion-first-sunday-of-every-month-22/
LOCATION:St Andrew’s Church
END:VEVENT
END:VCALENDAR