BEGIN:VCALENDAR
VERSION:2.0
PRODID:-//St Andrew&#039;s Anglican Church - ECPv4.8.1//NONSGML v1.0//EN
CALSCALE:GREGORIAN
METHOD:PUBLISH
X-WR-CALNAME:St Andrew&#039;s Anglican Church
X-ORIGINAL-URL:http://www.st-andrews.org.au
X-WR-CALDESC:Events for St Andrew&#039;s Anglican Church
BEGIN:VEVENT
DTSTART;TZID=UTC:20190303T083000
DTEND;TZID=UTC:20190303T100000
DTSTAMP:20190301T134653
CREATED:20190215T010150Z
LAST-MODIFIED:20190301T131337Z
UID:7893-1551601800-1551607200@www.st-andrews.org.au
SUMMARY:8:30 am Service Holy Communion
DESCRIPTION:
URL:http://www.st-andrews.org.au/event/830-am-service-holy-communion-2/
LOCATION:St Andrew’s church building
END:VEVENT
END:VCALENDAR