BEGIN:VCALENDAR
VERSION:2.0
PRODID:-//St Andrew&#039;s Anglican Church - ECPv4.8.1//NONSGML v1.0//EN
CALSCALE:GREGORIAN
METHOD:PUBLISH
X-WR-CALNAME:St Andrew&#039;s Anglican Church
X-ORIGINAL-URL:http://www.st-andrews.org.au
X-WR-CALDESC:Events for St Andrew&#039;s Anglican Church
BEGIN:VEVENT
DTSTART;TZID=UTC:20190303T093000
DTEND;TZID=UTC:20190303T100000
DTSTAMP:20190301T134807
CREATED:20190215T010151Z
LAST-MODIFIED:20190301T131337Z
UID:7894-1551605400-1551607200@www.st-andrews.org.au
SUMMARY:[Columbarium]Chapel of Remembrance Service
DESCRIPTION:
URL:http://www.st-andrews.org.au/event/columbariumchapel-of-remembrance-service-5/
LOCATION:Columbarium
END:VEVENT
END:VCALENDAR