BEGIN:VCALENDAR
VERSION:2.0
PRODID:-//St Andrew&#039;s Anglican Church - ECPv4.8.1//NONSGML v1.0//EN
CALSCALE:GREGORIAN
METHOD:PUBLISH
X-WR-CALNAME:St Andrew&#039;s Anglican Church
X-ORIGINAL-URL:http://www.st-andrews.org.au
X-WR-CALDESC:Events for St Andrew&#039;s Anglican Church
BEGIN:VEVENT
DTSTART;TZID=UTC:20190301T093000
DTEND;TZID=UTC:20190301T113000
DTSTAMP:20190301T134538
CREATED:20190214T075937Z
LAST-MODIFIED:20190301T131337Z
UID:7855-1551432600-1551439800@www.st-andrews.org.au
SUMMARY:Fri 9.30-11.30am Preschoolers Playdate (during the school terms)
DESCRIPTION:
URL:http://www.st-andrews.org.au/event/fri-9-30-11-30am-preschoolers-playdate-during-the-school-terms-5/
LOCATION:Blue Room
END:VEVENT
END:VCALENDAR